BEGIN:VCALENDAR
VERSION:2.0
PRODID:-//TCA Wildeshausen - ECPv6.15.17.1//NONSGML v1.0//EN
CALSCALE:GREGORIAN
METHOD:PUBLISH
X-WR-CALNAME:TCA Wildeshausen
X-ORIGINAL-URL:https://tca-wildeshausen.de
X-WR-CALDESC:Veranstaltungen für TCA Wildeshausen
REFRESH-INTERVAL;VALUE=DURATION:PT1H
X-Robots-Tag:noindex
X-PUBLISHED-TTL:PT1H
BEGIN:VTIMEZONE
TZID:Europe/Berlin
BEGIN:DAYLIGHT
TZOFFSETFROM:+0100
TZOFFSETTO:+0200
TZNAME:CEST
DTSTART:20250330T010000
END:DAYLIGHT
BEGIN:STANDARD
TZOFFSETFROM:+0200
TZOFFSETTO:+0100
TZNAME:CET
DTSTART:20251026T010000
END:STANDARD
BEGIN:DAYLIGHT
TZOFFSETFROM:+0100
TZOFFSETTO:+0200
TZNAME:CEST
DTSTART:20260329T010000
END:DAYLIGHT
BEGIN:STANDARD
TZOFFSETFROM:+0200
TZOFFSETTO:+0100
TZNAME:CET
DTSTART:20261025T010000
END:STANDARD
BEGIN:DAYLIGHT
TZOFFSETFROM:+0100
TZOFFSETTO:+0200
TZNAME:CEST
DTSTART:20270328T010000
END:DAYLIGHT
BEGIN:STANDARD
TZOFFSETFROM:+0200
TZOFFSETTO:+0100
TZNAME:CET
DTSTART:20271031T010000
END:STANDARD
END:VTIMEZONE
BEGIN:VEVENT
DTSTART;TZID=Europe/Berlin:20260425T080000
DTEND;TZID=Europe/Berlin:20260425T160000
DTSTAMP:20260425T142730
CREATED:20260307T130812Z
LAST-MODIFIED:20260307T130812Z
UID:4144-1777104000-1777132800@tca-wildeshausen.de
SUMMARY:LBS Jugend Masters
DESCRIPTION:Das erste TCA- Saison- Highlight: \nAm 25. und 26.04. finden auf unserer Anlage zum zweiten Mal die LBS Jugend- Masters statt. Hierfür benötigen wir ebenfalls motivierte Helfer.\nWer das Catering unterstützen möchte\, meldet sich bitte bei Birgit. Für die Platzpflege während des Turniers benötigen wir Samstag und Sonntag jeweils 2 Helfer für je ca. 4 Stunden. Hierfür meldet Euch bitte ebenfalls bis zum 07.03. an.  \nWeitere Infos folgen wie gewohnt rechtzeitig über die üblichen Kanäle. \nWir freuen uns auf Euch und auf eine schöne\, gesellige und sportlich erfolgreiche Saison 2026 beim TCA!
URL:https://tca-wildeshausen.de/event/lbs-jugend-masters/
LOCATION:TCA-Verein\, Wildeshauser Straße 34\, Dötlingen\, 27801\, Deutschland
END:VEVENT
BEGIN:VEVENT
DTSTART;TZID=Europe/Berlin:20260426T080000
DTEND;TZID=Europe/Berlin:20260426T160000
DTSTAMP:20260425T142730
CREATED:20260307T130909Z
LAST-MODIFIED:20260307T130909Z
UID:4146-1777190400-1777219200@tca-wildeshausen.de
SUMMARY:LBS Jugend Masters
DESCRIPTION:Das erste TCA- Saison- Highlight: \nAm 25. und 26.04. finden auf unserer Anlage zum zweiten Mal die LBS Jugend- Masters statt. Hierfür benötigen wir ebenfalls motivierte Helfer.\nWer das Catering unterstützen möchte\, meldet sich bitte bei Birgit. Für die Platzpflege während des Turniers benötigen wir Samstag und Sonntag jeweils 2 Helfer für je ca. 4 Stunden. Hierfür meldet Euch bitte ebenfalls bis zum 07.03. an. \nWeitere Infos folgen wie gewohnt rechtzeitig über die üblichen Kanäle. \nWir freuen uns auf Euch und auf eine schöne\, gesellige und sportlich erfolgreiche Saison 2026 beim TCA!
URL:https://tca-wildeshausen.de/event/lbs-jugend-masters-2/
LOCATION:TCA-Verein\, Wildeshauser Straße 34\, Dötlingen\, 27801\, Deutschland
END:VEVENT
BEGIN:VEVENT
DTSTART;TZID=Europe/Berlin:20260512T190000
DTEND;TZID=Europe/Berlin:20260512T210000
DTSTAMP:20260425T142730
CREATED:20260331T073902Z
LAST-MODIFIED:20260421T163506Z
UID:4227-1778612400-1778619600@tca-wildeshausen.de
SUMMARY:76. TCA - Jahreshauptversammlung
DESCRIPTION:
URL:https://tca-wildeshausen.de/event/jahreshauptversammlung-4/
LOCATION:TCA-Verein\, Wildeshauser Straße 34\, Dötlingen\, 27801\, Deutschland
END:VEVENT
BEGIN:VEVENT
DTSTART;TZID=Europe/Berlin:20260528T180000
DTEND;TZID=Europe/Berlin:20260528T210000
DTSTAMP:20260425T142730
CREATED:20260409T134050Z
LAST-MODIFIED:20260409T134050Z
UID:4242-1779991200-1780002000@tca-wildeshausen.de
SUMMARY:After Work Tennis
DESCRIPTION:Eingeladen sind alle\, die Lust auf einen entspannten Feierabend haben – egal ob ihr Tennis spielen wollt oder einfach nur auf einen kleinen Schnack vorbeikommt 🍻 \nBitte denkt daran\, eure Tennisplätze selbst zu buchen. \nWir freuen uns auf euch! \nEuer TCA Team
URL:https://tca-wildeshausen.de/event/after-work-tennis-2/
LOCATION:TCA-Verein\, Wildeshauser Straße 34\, Dötlingen\, 27801\, Deutschland
END:VEVENT
BEGIN:VEVENT
DTSTART;TZID=Europe/Berlin:20260610T180000
DTEND;TZID=Europe/Berlin:20260610T210000
DTSTAMP:20260425T142730
CREATED:20260409T134249Z
LAST-MODIFIED:20260409T134356Z
UID:4244-1781114400-1781125200@tca-wildeshausen.de
SUMMARY:After Work Tennis
DESCRIPTION:Eingeladen sind alle\, die Lust auf einen entspannten Feierabend haben – egal ob ihr Tennis spielen wollt oder einfach nur auf einen kleinen Schnack vorbeikommt 🍻 \nBitte denkt daran\, eure Tennisplätze selbst zu buchen. \nWir freuen uns auf euch! \nEuer TCA Team
URL:https://tca-wildeshausen.de/event/after-work-tennis-3/
LOCATION:TCA-Verein\, Wildeshauser Straße 34\, Dötlingen\, 27801\, Deutschland
END:VEVENT
BEGIN:VEVENT
DTSTART;TZID=Europe/Berlin:20260620T140000
DTEND;TZID=Europe/Berlin:20260620T230000
DTSTAMP:20260425T142730
CREATED:20260409T134910Z
LAST-MODIFIED:20260409T134910Z
UID:4254-1781964000-1781996400@tca-wildeshausen.de
SUMMARY:Sommerfest
DESCRIPTION:
URL:https://tca-wildeshausen.de/event/sommerfest-2/
LOCATION:TCA-Verein\, Wildeshauser Straße 34\, Dötlingen\, 27801\, Deutschland
END:VEVENT
BEGIN:VEVENT
DTSTART;TZID=Europe/Berlin:20260715T180000
DTEND;TZID=Europe/Berlin:20260715T210000
DTSTAMP:20260425T142730
CREATED:20260409T134443Z
LAST-MODIFIED:20260409T134443Z
UID:4246-1784138400-1784149200@tca-wildeshausen.de
SUMMARY:After Work Tennis
DESCRIPTION:Eingeladen sind alle\, die Lust auf einen entspannten Feierabend haben – egal ob ihr Tennis spielen wollt oder einfach nur auf einen kleinen Schnack vorbeikommt 🍻 \nBitte denkt daran\, eure Tennisplätze selbst zu buchen. \nWir freuen uns auf euch! \nEuer TCA Team
URL:https://tca-wildeshausen.de/event/after-work-tennis-4/
LOCATION:TCA-Verein\, Wildeshauser Straße 34\, Dötlingen\, 27801\, Deutschland
END:VEVENT
BEGIN:VEVENT
DTSTART;VALUE=DATE:20260801
DTEND;VALUE=DATE:20260802
DTSTAMP:20260425T142730
CREATED:20260409T135037Z
LAST-MODIFIED:20260409T135037Z
UID:4256-1785542400-1785628799@tca-wildeshausen.de
SUMMARY:LK-Tunier
DESCRIPTION:
URL:https://tca-wildeshausen.de/event/lk-tunier/
LOCATION:TCA-Verein\, Wildeshauser Straße 34\, Dötlingen\, 27801\, Deutschland
END:VEVENT
BEGIN:VEVENT
DTSTART;VALUE=DATE:20260802
DTEND;VALUE=DATE:20260803
DTSTAMP:20260425T142730
CREATED:20260409T135122Z
LAST-MODIFIED:20260409T135122Z
UID:4258-1785628800-1785715199@tca-wildeshausen.de
SUMMARY:LK-Tunier
DESCRIPTION:
URL:https://tca-wildeshausen.de/event/lk-tunier-2/
LOCATION:TCA-Verein\, Wildeshauser Straße 34\, Dötlingen\, 27801\, Deutschland
END:VEVENT
BEGIN:VEVENT
DTSTART;TZID=Europe/Berlin:20260816T093000
DTEND;TZID=Europe/Berlin:20260816T130000
DTSTAMP:20260425T142730
CREATED:20260409T135242Z
LAST-MODIFIED:20260409T135242Z
UID:4260-1786872600-1786885200@tca-wildeshausen.de
SUMMARY:Sonntagsbrunch
DESCRIPTION:
URL:https://tca-wildeshausen.de/event/sonntagsbrunch/
LOCATION:TCA-Verein\, Wildeshauser Straße 34\, Dötlingen\, 27801\, Deutschland
END:VEVENT
BEGIN:VEVENT
DTSTART;VALUE=DATE:20260823
DTEND;VALUE=DATE:20260824
DTSTAMP:20260425T142730
CREATED:20260409T135355Z
LAST-MODIFIED:20260409T135355Z
UID:4262-1787443200-1787529599@tca-wildeshausen.de
SUMMARY:Hobbyliga Finale
DESCRIPTION:
URL:https://tca-wildeshausen.de/event/hobbyliga-finale/
LOCATION:TCA-Verein\, Wildeshauser Straße 34\, Dötlingen\, 27801\, Deutschland
END:VEVENT
BEGIN:VEVENT
DTSTART;TZID=Europe/Berlin:20260826T180000
DTEND;TZID=Europe/Berlin:20260826T210000
DTSTAMP:20260425T142730
CREATED:20260409T134531Z
LAST-MODIFIED:20260409T134531Z
UID:4248-1787767200-1787778000@tca-wildeshausen.de
SUMMARY:After Work Tennis
DESCRIPTION:Eingeladen sind alle\, die Lust auf einen entspannten Feierabend haben – egal ob ihr Tennis spielen wollt oder einfach nur auf einen kleinen Schnack vorbeikommt 🍻 \nBitte denkt daran\, eure Tennisplätze selbst zu buchen. \nWir freuen uns auf euch! \nEuer TCA Team
URL:https://tca-wildeshausen.de/event/after-work-tennis-5/
LOCATION:TCA-Verein\, Wildeshauser Straße 34\, Dötlingen\, 27801\, Deutschland
END:VEVENT
BEGIN:VEVENT
DTSTART;VALUE=DATE:20260905
DTEND;VALUE=DATE:20260906
DTSTAMP:20260425T142730
CREATED:20260409T135441Z
LAST-MODIFIED:20260409T135441Z
UID:4264-1788566400-1788652799@tca-wildeshausen.de
SUMMARY:Club-Meisterschaften
DESCRIPTION:
URL:https://tca-wildeshausen.de/event/club-meisterschaften/
LOCATION:TCA-Verein\, Wildeshauser Straße 34\, Dötlingen\, 27801\, Deutschland
END:VEVENT
BEGIN:VEVENT
DTSTART;TZID=Europe/Berlin:20260906T080000
DTEND;TZID=Europe/Berlin:20260906T170000
DTSTAMP:20260425T142730
CREATED:20260409T135505Z
LAST-MODIFIED:20260409T135657Z
UID:4266-1788681600-1788714000@tca-wildeshausen.de
SUMMARY:Club-Meisterschaften
DESCRIPTION:
URL:https://tca-wildeshausen.de/event/club-meisterschaften-2/
LOCATION:TCA-Verein\, Wildeshauser Straße 34\, Dötlingen\, 27801\, Deutschland
END:VEVENT
BEGIN:VEVENT
DTSTART;TZID=Europe/Berlin:20260916T180000
DTEND;TZID=Europe/Berlin:20260916T210000
DTSTAMP:20260425T142730
CREATED:20260409T134620Z
LAST-MODIFIED:20260409T134620Z
UID:4250-1789581600-1789592400@tca-wildeshausen.de
SUMMARY:After Work Tennis
DESCRIPTION:Eingeladen sind alle\, die Lust auf einen entspannten Feierabend haben – egal ob ihr Tennis spielen wollt oder einfach nur auf einen kleinen Schnack vorbeikommt 🍻 \nBitte denkt daran\, eure Tennisplätze selbst zu buchen. \nWir freuen uns auf euch! \nEuer TCA Team
URL:https://tca-wildeshausen.de/event/after-work-tennis-6/
LOCATION:TCA-Verein\, Wildeshauser Straße 34\, Dötlingen\, 27801\, Deutschland
END:VEVENT
BEGIN:VEVENT
DTSTART;TZID=Europe/Berlin:20261002T180000
DTEND;TZID=Europe/Berlin:20261002T210000
DTSTAMP:20260425T142730
CREATED:20260409T134717Z
LAST-MODIFIED:20260409T134717Z
UID:4252-1790964000-1790974800@tca-wildeshausen.de
SUMMARY:After Work Tennis
DESCRIPTION:Eingeladen sind alle\, die Lust auf einen entspannten Feierabend haben – egal ob ihr Tennis spielen wollt oder einfach nur auf einen kleinen Schnack vorbeikommt 🍻 \nBitte denkt daran\, eure Tennisplätze selbst zu buchen. \nWir freuen uns auf euch! \nEuer TCA Team
URL:https://tca-wildeshausen.de/event/after-work-tennis-7/
LOCATION:TCA-Verein\, Wildeshauser Straße 34\, Dötlingen\, 27801\, Deutschland
END:VEVENT
BEGIN:VEVENT
DTSTART;TZID=Europe/Berlin:20261204T180000
DTEND;TZID=Europe/Berlin:20261204T233000
DTSTAMP:20260425T142730
CREATED:20260409T135808Z
LAST-MODIFIED:20260409T135808Z
UID:4268-1796407200-1796427000@tca-wildeshausen.de
SUMMARY:Weihnachtsfeier
DESCRIPTION:
URL:https://tca-wildeshausen.de/event/weihnachtsfeier/
LOCATION:TCA-Verein\, Wildeshauser Straße 34\, Dötlingen\, 27801\, Deutschland
END:VEVENT
END:VCALENDAR